BEGIN:VCALENDAR
VERSION:2.0
PRODID:-//Rotbach Chörli - ECPv6.15.17//NONSGML v1.0//EN
CALSCALE:GREGORIAN
METHOD:PUBLISH
X-WR-CALNAME:Rotbach Chörli
X-ORIGINAL-URL:https://rotbach-choerli.ch
X-WR-CALDESC:Veranstaltungen für Rotbach Chörli
REFRESH-INTERVAL;VALUE=DURATION:PT1H
X-Robots-Tag:noindex
X-PUBLISHED-TTL:PT1H
BEGIN:VTIMEZONE
TZID:Europe/Zurich
BEGIN:DAYLIGHT
TZOFFSETFROM:+0100
TZOFFSETTO:+0200
TZNAME:CEST
DTSTART:20250330T010000
END:DAYLIGHT
BEGIN:STANDARD
TZOFFSETFROM:+0200
TZOFFSETTO:+0100
TZNAME:CET
DTSTART:20251026T010000
END:STANDARD
BEGIN:DAYLIGHT
TZOFFSETFROM:+0100
TZOFFSETTO:+0200
TZNAME:CEST
DTSTART:20260329T010000
END:DAYLIGHT
BEGIN:STANDARD
TZOFFSETFROM:+0200
TZOFFSETTO:+0100
TZNAME:CET
DTSTART:20261025T010000
END:STANDARD
BEGIN:DAYLIGHT
TZOFFSETFROM:+0100
TZOFFSETTO:+0200
TZNAME:CEST
DTSTART:20270328T010000
END:DAYLIGHT
BEGIN:STANDARD
TZOFFSETFROM:+0200
TZOFFSETTO:+0100
TZNAME:CET
DTSTART:20271031T010000
END:STANDARD
BEGIN:DAYLIGHT
TZOFFSETFROM:+0100
TZOFFSETTO:+0200
TZNAME:CEST
DTSTART:20280326T010000
END:DAYLIGHT
BEGIN:STANDARD
TZOFFSETFROM:+0200
TZOFFSETTO:+0100
TZNAME:CET
DTSTART:20281029T010000
END:STANDARD
END:VTIMEZONE
BEGIN:VEVENT
DTSTART;VALUE=DATE:20260502
DTEND;VALUE=DATE:20260503
DTSTAMP:20260422T111542
CREATED:20260303T165553Z
LAST-MODIFIED:20260303T165553Z
UID:1736-1777680000-1777766399@rotbach-choerli.ch
SUMMARY:Gewerbeschau Bühler singen Ab 11.00 Uhr bis ca.14.00 Uhr
DESCRIPTION:
URL:https://rotbach-choerli.ch/veranstaltung/gewerbeschau-buehler-singen-ab-11-00-uhr-bis-ca-14-00-uhr/
END:VEVENT
BEGIN:VEVENT
DTSTART;VALUE=DATE:20260514
DTEND;VALUE=DATE:20260515
DTSTAMP:20260422T111542
CREATED:20260303T165633Z
LAST-MODIFIED:20260303T165633Z
UID:1738-1778716800-1778803199@rotbach-choerli.ch
SUMMARY:Kongress Zürich - Nicht öffentlich
DESCRIPTION:
URL:https://rotbach-choerli.ch/veranstaltung/kongress-zuerich-nicht-oeffentlich/
END:VEVENT
BEGIN:VEVENT
DTSTART;VALUE=DATE:20260627
DTEND;VALUE=DATE:20260628
DTSTAMP:20260422T111542
CREATED:20260303T165727Z
LAST-MODIFIED:20260303T165727Z
UID:1742-1782518400-1782604799@rotbach-choerli.ch
SUMMARY:Eidg. Jodelfest Basel
DESCRIPTION:
URL:https://rotbach-choerli.ch/veranstaltung/eidg-jodelfest-basel/
END:VEVENT
BEGIN:VEVENT
DTSTART;VALUE=DATE:20260712
DTEND;VALUE=DATE:20260713
DTSTAMP:20260422T111542
CREATED:20260303T165754Z
LAST-MODIFIED:20260303T165754Z
UID:1744-1783814400-1783900799@rotbach-choerli.ch
SUMMARY:Meglisalp
DESCRIPTION:
URL:https://rotbach-choerli.ch/veranstaltung/meglisalp-2/
END:VEVENT
BEGIN:VEVENT
DTSTART;VALUE=DATE:20260809
DTEND;VALUE=DATE:20260810
DTSTAMP:20260422T111542
CREATED:20260303T165815Z
LAST-MODIFIED:20260303T165815Z
UID:1746-1786233600-1786319999@rotbach-choerli.ch
SUMMARY:Familien Ausflug - Nicht öffentlich
DESCRIPTION:
URL:https://rotbach-choerli.ch/veranstaltung/familien-ausflug-nicht-oeffentlich/
END:VEVENT
BEGIN:VEVENT
DTSTART;VALUE=DATE:20261031
DTEND;VALUE=DATE:20261101
DTSTAMP:20260422T111542
CREATED:20260303T165839Z
LAST-MODIFIED:20260303T165839Z
UID:1748-1793404800-1793491199@rotbach-choerli.ch
SUMMARY:Jodelgruppe Engstligtal Adelboden
DESCRIPTION:
URL:https://rotbach-choerli.ch/veranstaltung/jodelgruppe-engstligtal-adelboden/
END:VEVENT
BEGIN:VEVENT
DTSTART;VALUE=DATE:20261114
DTEND;VALUE=DATE:20261115
DTSTAMP:20260422T111542
CREATED:20260303T165903Z
LAST-MODIFIED:20260303T165903Z
UID:1750-1794614400-1794700799@rotbach-choerli.ch
SUMMARY:Herbstkonzert Gem. JG Münchwilen singen ab 19.30 Uhr
DESCRIPTION:
URL:https://rotbach-choerli.ch/veranstaltung/herbstkonzert-gem-jg-muenchwilen-singen-ab-19-30-uhr/
END:VEVENT
BEGIN:VEVENT
DTSTART;VALUE=DATE:20261128
DTEND;VALUE=DATE:20261129
DTSTAMP:20260422T111542
CREATED:20260303T165931Z
LAST-MODIFIED:20260303T165931Z
UID:1752-1795824000-1795910399@rotbach-choerli.ch
SUMMARY:Adventsnacht Teufen singen ab 17.00 Uhr
DESCRIPTION:
URL:https://rotbach-choerli.ch/veranstaltung/adventsnacht-teufen-singen-ab-17-00-uhr/
END:VEVENT
BEGIN:VEVENT
DTSTART;VALUE=DATE:20261204
DTEND;VALUE=DATE:20261205
DTSTAMP:20260422T111542
CREATED:20260303T165953Z
LAST-MODIFIED:20260303T165953Z
UID:1754-1796342400-1796428799@rotbach-choerli.ch
SUMMARY:Chlausabend - Nicht öffentlich
DESCRIPTION:
URL:https://rotbach-choerli.ch/veranstaltung/chlausabend-nicht-oeffentlich-2/
END:VEVENT
BEGIN:VEVENT
DTSTART;VALUE=DATE:20261220
DTEND;VALUE=DATE:20261221
DTSTAMP:20260422T111542
CREATED:20260303T170037Z
LAST-MODIFIED:20260303T170037Z
UID:1756-1797724800-1797811199@rotbach-choerli.ch
SUMMARY:Gottesdienst Altstätten Sonntagmorgen
DESCRIPTION:
URL:https://rotbach-choerli.ch/veranstaltung/gottesdienst-altstaetten-sonntagmorgen/
END:VEVENT
BEGIN:VEVENT
DTSTART;VALUE=DATE:20270123
DTEND;VALUE=DATE:20270124
DTSTAMP:20260422T111542
CREATED:20260303T170105Z
LAST-MODIFIED:20260303T170105Z
UID:1758-1800662400-1800748799@rotbach-choerli.ch
SUMMARY:Hauptversammlung - Beginn 19.30 Uhr - Nicht öffentlich
DESCRIPTION:
URL:https://rotbach-choerli.ch/veranstaltung/hauptversammlung-beginn-19-30-uhr-nicht-oeffentlich/
END:VEVENT
BEGIN:VEVENT
DTSTART;VALUE=DATE:20270403
DTEND;VALUE=DATE:20270404
DTSTAMP:20260422T111542
CREATED:20260303T170138Z
LAST-MODIFIED:20260303T170138Z
UID:1760-1806710400-1806796799@rotbach-choerli.ch
SUMMARY:Unterhaltung Rotbach Chörli Bühler
DESCRIPTION:
URL:https://rotbach-choerli.ch/veranstaltung/unterhaltung-rotbach-choerli-buehler/
CATEGORIES:Unterhaltung
END:VEVENT
BEGIN:VEVENT
DTSTART;VALUE=DATE:20270404
DTEND;VALUE=DATE:20270405
DTSTAMP:20260422T111542
CREATED:20260303T170201Z
LAST-MODIFIED:20260303T170201Z
UID:1762-1806796800-1806883199@rotbach-choerli.ch
SUMMARY:Unterhaltung Rotbach Chörli Bühler
DESCRIPTION:
URL:https://rotbach-choerli.ch/veranstaltung/unterhaltung-rotbach-choerli-buehler-2/
CATEGORIES:Unterhaltung
END:VEVENT
BEGIN:VEVENT
DTSTART;VALUE=DATE:20270410
DTEND;VALUE=DATE:20270411
DTSTAMP:20260422T111542
CREATED:20260303T170232Z
LAST-MODIFIED:20260303T170232Z
UID:1764-1807315200-1807401599@rotbach-choerli.ch
SUMMARY:Unterhaltung Rotbach Chörli Bühler
DESCRIPTION:
URL:https://rotbach-choerli.ch/veranstaltung/unterhaltung-rotbach-choerli-buehler-3/
CATEGORIES:Unterhaltung
END:VEVENT
BEGIN:VEVENT
DTSTART;VALUE=DATE:20270903
DTEND;VALUE=DATE:20270904
DTSTAMP:20260422T111542
CREATED:20260303T170303Z
LAST-MODIFIED:20260303T170303Z
UID:1766-1819929600-1820015999@rotbach-choerli.ch
SUMMARY:Musik Jubi MG Schwellbrunn
DESCRIPTION:
URL:https://rotbach-choerli.ch/veranstaltung/musik-jubi-mg-schwellbrunn/
END:VEVENT
END:VCALENDAR