BEGIN:VCALENDAR
VERSION:2.0
PRODID:-//Rotbach Chörli - ECPv6.15.17//NONSGML v1.0//EN
CALSCALE:GREGORIAN
METHOD:PUBLISH
X-WR-CALNAME:Rotbach Chörli
X-ORIGINAL-URL:https://rotbach-choerli.ch
X-WR-CALDESC:Veranstaltungen für Rotbach Chörli
REFRESH-INTERVAL;VALUE=DURATION:PT1H
X-Robots-Tag:noindex
X-PUBLISHED-TTL:PT1H
BEGIN:VTIMEZONE
TZID:Europe/Zurich
BEGIN:DAYLIGHT
TZOFFSETFROM:+0100
TZOFFSETTO:+0200
TZNAME:CEST
DTSTART:20230326T010000
END:DAYLIGHT
BEGIN:STANDARD
TZOFFSETFROM:+0200
TZOFFSETTO:+0100
TZNAME:CET
DTSTART:20231029T010000
END:STANDARD
BEGIN:DAYLIGHT
TZOFFSETFROM:+0100
TZOFFSETTO:+0200
TZNAME:CEST
DTSTART:20240331T010000
END:DAYLIGHT
BEGIN:STANDARD
TZOFFSETFROM:+0200
TZOFFSETTO:+0100
TZNAME:CET
DTSTART:20241027T010000
END:STANDARD
BEGIN:DAYLIGHT
TZOFFSETFROM:+0100
TZOFFSETTO:+0200
TZNAME:CEST
DTSTART:20250330T010000
END:DAYLIGHT
BEGIN:STANDARD
TZOFFSETFROM:+0200
TZOFFSETTO:+0100
TZNAME:CET
DTSTART:20251026T010000
END:STANDARD
END:VTIMEZONE
BEGIN:VEVENT
DTSTART;TZID=Europe/Zurich:20240406T200000
DTEND;TZID=Europe/Zurich:20240406T220000
DTSTAMP:20260424T074448
CREATED:20240202T115555Z
LAST-MODIFIED:20240401T181816Z
UID:1510-1712433600-1712440800@rotbach-choerli.ch
SUMMARY:Kirchenkonzert Schwellbrunn – Beginn 20:00 Uhr
DESCRIPTION:
URL:https://rotbach-choerli.ch/veranstaltung/kirchenkonzerte-schwellbrunn-buehler-widnau/
END:VEVENT
BEGIN:VEVENT
DTSTART;TZID=Europe/Zurich:20240407T140000
DTEND;TZID=Europe/Zurich:20240407T160000
DTSTAMP:20260424T074448
CREATED:20240202T170543Z
LAST-MODIFIED:20240202T170543Z
UID:1534-1712498400-1712505600@rotbach-choerli.ch
SUMMARY:Kirchenkonzert Bühler – Beginn 14:00 Uhr
DESCRIPTION:
URL:https://rotbach-choerli.ch/veranstaltung/kirchenkonzert-buehler-beginn-1400-uhr/
END:VEVENT
BEGIN:VEVENT
DTSTART;TZID=Europe/Zurich:20240407T190000
DTEND;TZID=Europe/Zurich:20240407T210000
DTSTAMP:20260424T074448
CREATED:20240202T170619Z
LAST-MODIFIED:20240202T170619Z
UID:1536-1712516400-1712523600@rotbach-choerli.ch
SUMMARY:Kirchenkonzert Widnau – Beginn 19:00 Uhr
DESCRIPTION:
URL:https://rotbach-choerli.ch/veranstaltung/kirchenkonzert-widnau-beginn-1900-uhr/
END:VEVENT
BEGIN:VEVENT
DTSTART;VALUE=DATE:20240415
DTEND;VALUE=DATE:20240416
DTSTAMP:20260424T074448
CREATED:20240202T115728Z
LAST-MODIFIED:20240202T115728Z
UID:1512-1713139200-1713225599@rotbach-choerli.ch
SUMMARY:Sechsi Lüüte Zürich
DESCRIPTION:
URL:https://rotbach-choerli.ch/veranstaltung/sechsi-lueuete-zuerich/
END:VEVENT
END:VCALENDAR