BEGIN:VCALENDAR
VERSION:2.0
PRODID:-//Rotbach Chörli - ECPv6.15.17//NONSGML v1.0//EN
CALSCALE:GREGORIAN
METHOD:PUBLISH
X-ORIGINAL-URL:https://rotbach-choerli.ch
X-WR-CALDESC:Veranstaltungen für Rotbach Chörli
REFRESH-INTERVAL;VALUE=DURATION:PT1H
X-Robots-Tag:noindex
X-PUBLISHED-TTL:PT1H
BEGIN:VTIMEZONE
TZID:Europe/Zurich
BEGIN:DAYLIGHT
TZOFFSETFROM:+0100
TZOFFSETTO:+0200
TZNAME:CEST
DTSTART:20240331T010000
END:DAYLIGHT
BEGIN:STANDARD
TZOFFSETFROM:+0200
TZOFFSETTO:+0100
TZNAME:CET
DTSTART:20241027T010000
END:STANDARD
BEGIN:DAYLIGHT
TZOFFSETFROM:+0100
TZOFFSETTO:+0200
TZNAME:CEST
DTSTART:20250330T010000
END:DAYLIGHT
BEGIN:STANDARD
TZOFFSETFROM:+0200
TZOFFSETTO:+0100
TZNAME:CET
DTSTART:20251026T010000
END:STANDARD
BEGIN:DAYLIGHT
TZOFFSETFROM:+0100
TZOFFSETTO:+0200
TZNAME:CEST
DTSTART:20260329T010000
END:DAYLIGHT
BEGIN:STANDARD
TZOFFSETFROM:+0200
TZOFFSETTO:+0100
TZNAME:CET
DTSTART:20261025T010000
END:STANDARD
END:VTIMEZONE
BEGIN:VEVENT
DTSTART;VALUE=DATE:20250309
DTEND;VALUE=DATE:20250310
DTSTAMP:20260423T132440
CREATED:20250224T164659Z
LAST-MODIFIED:20250224T164659Z
UID:1689-1741478400-1741564799@rotbach-choerli.ch
SUMMARY:Altersheim Singen Gais Bühler
DESCRIPTION:
URL:https://rotbach-choerli.ch/veranstaltung/altersheim-singen-gais-buehler/
END:VEVENT
BEGIN:VEVENT
DTSTART;VALUE=DATE:20250329
DTEND;VALUE=DATE:20250330
DTSTAMP:20260423T132440
CREATED:20240202T120755Z
LAST-MODIFIED:20250120T165951Z
UID:1527-1743206400-1743292799@rotbach-choerli.ch
SUMMARY:Unterhaltung Bühler | Saalöffnung 18:45 Uhr
DESCRIPTION:Saalöffnung 18:45 Uhr
URL:https://rotbach-choerli.ch/veranstaltung/unterhaltung-buehler/
END:VEVENT
BEGIN:VEVENT
DTSTART;VALUE=DATE:20250330
DTEND;VALUE=DATE:20250331
DTSTAMP:20260423T132440
CREATED:20250120T165249Z
LAST-MODIFIED:20250120T170017Z
UID:1672-1743292800-1743379199@rotbach-choerli.ch
SUMMARY:Unterhaltung Bühler | Saalöffnung 11:30 Uhr | Mittagessen möglich
DESCRIPTION:Saalöffnung 11:30 Uhr – Mittagessen möglich
URL:https://rotbach-choerli.ch/veranstaltung/unterhaltung-buehler-3/
END:VEVENT
END:VCALENDAR