BEGIN:VCALENDAR
VERSION:2.0
PRODID:-//Rotbach Chörli - ECPv6.15.17//NONSGML v1.0//EN
CALSCALE:GREGORIAN
METHOD:PUBLISH
X-ORIGINAL-URL:https://rotbach-choerli.ch
X-WR-CALDESC:Veranstaltungen für Rotbach Chörli
REFRESH-INTERVAL;VALUE=DURATION:PT1H
X-Robots-Tag:noindex
X-PUBLISHED-TTL:PT1H
BEGIN:VTIMEZONE
TZID:Europe/Zurich
BEGIN:DAYLIGHT
TZOFFSETFROM:+0100
TZOFFSETTO:+0200
TZNAME:CEST
DTSTART:20250330T010000
END:DAYLIGHT
BEGIN:STANDARD
TZOFFSETFROM:+0200
TZOFFSETTO:+0100
TZNAME:CET
DTSTART:20251026T010000
END:STANDARD
BEGIN:DAYLIGHT
TZOFFSETFROM:+0100
TZOFFSETTO:+0200
TZNAME:CEST
DTSTART:20260329T010000
END:DAYLIGHT
BEGIN:STANDARD
TZOFFSETFROM:+0200
TZOFFSETTO:+0100
TZNAME:CET
DTSTART:20261025T010000
END:STANDARD
BEGIN:DAYLIGHT
TZOFFSETFROM:+0100
TZOFFSETTO:+0200
TZNAME:CEST
DTSTART:20270328T010000
END:DAYLIGHT
BEGIN:STANDARD
TZOFFSETFROM:+0200
TZOFFSETTO:+0100
TZNAME:CET
DTSTART:20271031T010000
END:STANDARD
END:VTIMEZONE
BEGIN:VEVENT
DTSTART;VALUE=DATE:20261204
DTEND;VALUE=DATE:20261205
DTSTAMP:20260423T040502
CREATED:20260303T165953Z
LAST-MODIFIED:20260303T165953Z
UID:1754-1796342400-1796428799@rotbach-choerli.ch
SUMMARY:Chlausabend - Nicht öffentlich
DESCRIPTION:
URL:https://rotbach-choerli.ch/veranstaltung/chlausabend-nicht-oeffentlich-2/
END:VEVENT
BEGIN:VEVENT
DTSTART;VALUE=DATE:20261220
DTEND;VALUE=DATE:20261221
DTSTAMP:20260423T040502
CREATED:20260303T170037Z
LAST-MODIFIED:20260303T170037Z
UID:1756-1797724800-1797811199@rotbach-choerli.ch
SUMMARY:Gottesdienst Altstätten Sonntagmorgen
DESCRIPTION:
URL:https://rotbach-choerli.ch/veranstaltung/gottesdienst-altstaetten-sonntagmorgen/
END:VEVENT
END:VCALENDAR